BEGIN:VCALENDAR
VERSION:2.0
PRODID:-//Sophicity/Tribune/Hogansville, GA
BEGIN:VEVENT
DTSTAMP:20260421T121912Z
UID:e38bd3f4-da44-4283-b85a-c89aa8858848-6172
DTSTART:20260518T230000Z
DTEND:20260518T233000Z
CLASS:PUBLIC
SUMMARY:PUBLIC HEARING: 
END:VEVENT
END:VCALENDAR
